BEGIN:VCALENDAR
VERSION:2.0
PRODID:-//Neudorfer Kulturausschuss e.V. - ECPv6.0.11//NONSGML v1.0//EN
CALSCALE:GREGORIAN
METHOD:PUBLISH
X-WR-CALNAME:Neudorfer Kulturausschuss e.V.
X-ORIGINAL-URL:https://nkaonline.de
X-WR-CALDESC:Veranstaltungen für Neudorfer Kulturausschuss e.V.
REFRESH-INTERVAL;VALUE=DURATION:PT1H
X-Robots-Tag:noindex
X-PUBLISHED-TTL:PT1H
BEGIN:VTIMEZONE
TZID:Europe/Berlin
BEGIN:DAYLIGHT
TZOFFSETFROM:+0100
TZOFFSETTO:+0200
TZNAME:CEST
DTSTART:20220327T010000
END:DAYLIGHT
BEGIN:STANDARD
TZOFFSETFROM:+0200
TZOFFSETTO:+0100
TZNAME:CET
DTSTART:20221030T010000
END:STANDARD
END:VTIMEZONE
BEGIN:VEVENT
DTSTART;TZID=Europe/Berlin:20221112T000000
DTEND;TZID=Europe/Berlin:20221113T000000
DTSTAMP:20260426T052457
CREATED:20221114T175654Z
LAST-MODIFIED:20221114T184409Z
UID:2813-1668211200-1668297600@nkaonline.de
SUMMARY:Herbstball / Tanzgala TSV Graben-Neudorf
DESCRIPTION:
URL:https://nkaonline.de/veranstaltung/herbstball-tanzgalatsv-graben-neudorf/
LOCATION:Pestalozzi-Halle\, Pestalozzistraße 2\, 76676 Graben-Neudorf\, Deu
END:VEVENT
BEGIN:VEVENT
DTSTART;TZID=Europe/Berlin:20221112T000000
DTEND;TZID=Europe/Berlin:20221113T000000
DTSTAMP:20260426T052457
CREATED:20221114T175724Z
LAST-MODIFIED:20221114T175724Z
UID:2828-1668211200-1668297600@nkaonline.de
SUMMARY:Kampagneneröffnung NeuKaGe
DESCRIPTION:
URL:https://nkaonline.de/veranstaltung/kampagneneroeffnung-neukage/
END:VEVENT
END:VCALENDAR