BEGIN:VCALENDAR
VERSION:2.0
PRODID:-//Neudorfer Kulturausschuss e.V. - ECPv6.0.11//NONSGML v1.0//EN
CALSCALE:GREGORIAN
METHOD:PUBLISH
X-ORIGINAL-URL:https://nkaonline.de
X-WR-CALDESC:Veranstaltungen für Neudorfer Kulturausschuss e.V.
REFRESH-INTERVAL;VALUE=DURATION:PT1H
X-Robots-Tag:noindex
X-PUBLISHED-TTL:PT1H
BEGIN:VTIMEZONE
TZID:Europe/Berlin
BEGIN:DAYLIGHT
TZOFFSETFROM:+0100
TZOFFSETTO:+0200
TZNAME:CEST
DTSTART:20220327T010000
END:DAYLIGHT
BEGIN:STANDARD
TZOFFSETFROM:+0200
TZOFFSETTO:+0100
TZNAME:CET
DTSTART:20221030T010000
END:STANDARD
END:VTIMEZONE
BEGIN:VEVENT
DTSTART;TZID=Europe/Berlin:20221113T000000
DTEND;TZID=Europe/Berlin:20221114T000000
DTSTAMP:20260426T052735
CREATED:20221114T175555Z
LAST-MODIFIED:20221114T184404Z
UID:2794-1668297600-1668384000@nkaonline.de
SUMMARY:75 jähriges Bestehen Sozialverband VdK OV Neudorf
DESCRIPTION:
URL:https://nkaonline.de/veranstaltung/75-jaehriges-bestehensozialverband-vdk-ov-neudorf/
LOCATION:St. Wendelinus Kirche\, Mannheimer Str. 100\, 76676 Graben-Neudorf
END:VEVENT
END:VCALENDAR