BEGIN:VCALENDAR
VERSION:2.0
PRODID:-//Neudorfer Kulturausschuss e.V. - ECPv6.0.11//NONSGML v1.0//EN
CALSCALE:GREGORIAN
METHOD:PUBLISH
X-WR-CALNAME:Neudorfer Kulturausschuss e.V.
X-ORIGINAL-URL:https://nkaonline.de
X-WR-CALDESC:Veranstaltungen für Neudorfer Kulturausschuss e.V.
REFRESH-INTERVAL;VALUE=DURATION:PT1H
X-Robots-Tag:noindex
X-PUBLISHED-TTL:PT1H
BEGIN:VTIMEZONE
TZID:Europe/Berlin
BEGIN:DAYLIGHT
TZOFFSETFROM:+0100
TZOFFSETTO:+0200
TZNAME:CEST
DTSTART:20230326T010000
END:DAYLIGHT
BEGIN:STANDARD
TZOFFSETFROM:+0200
TZOFFSETTO:+0100
TZNAME:CET
DTSTART:20231029T010000
END:STANDARD
END:VTIMEZONE
BEGIN:VEVENT
DTSTART;VALUE=DATE:20230501
DTEND;VALUE=DATE:20230502
DTSTAMP:20260423T114255
CREATED:20221116T084013Z
LAST-MODIFIED:20221116T084013Z
UID:2908-1682899200-1682985599@nkaonline.de
SUMMARY:Leistungsklassenturnier	Tennisclub Graben-Neudorf
DESCRIPTION:
URL:https://nkaonline.de/veranstaltung/leistungsklassenturniertennisclub-graben-neudorf-10/
LOCATION:Tennisplatz
END:VEVENT
BEGIN:VEVENT
DTSTART;VALUE=DATE:20230501
DTEND;VALUE=DATE:20230502
DTSTAMP:20260423T114255
CREATED:20221114T175809Z
LAST-MODIFIED:20230313T153157Z
UID:2843-1682899200-1682985599@nkaonline.de
SUMMARY:2. Maifest TSV Graben-Neudorf
DESCRIPTION:
URL:https://nkaonline.de/veranstaltung/2-maifest-tsv-graben-neudorf/
LOCATION:TSV Neudorf Sportgelände\, Jahnstraße 11\, 76676 Graben-Neudorf\,
END:VEVENT
END:VCALENDAR