BEGIN:VCALENDAR
VERSION:2.0
PRODID:-//Neudorfer Kulturausschuss e.V. - ECPv6.0.11//NONSGML v1.0//EN
CALSCALE:GREGORIAN
METHOD:PUBLISH
X-WR-CALNAME:Neudorfer Kulturausschuss e.V.
X-ORIGINAL-URL:https://nkaonline.de
X-WR-CALDESC:Veranstaltungen für Neudorfer Kulturausschuss e.V.
REFRESH-INTERVAL;VALUE=DURATION:PT1H
X-Robots-Tag:noindex
X-PUBLISHED-TTL:PT1H
BEGIN:VTIMEZONE
TZID:Europe/Berlin
BEGIN:DAYLIGHT
TZOFFSETFROM:+0100
TZOFFSETTO:+0200
TZNAME:CEST
DTSTART:20230326T010000
END:DAYLIGHT
BEGIN:STANDARD
TZOFFSETFROM:+0200
TZOFFSETTO:+0100
TZNAME:CET
DTSTART:20231029T010000
END:STANDARD
END:VTIMEZONE
BEGIN:VEVENT
DTSTART;VALUE=DATE:20230708
DTEND;VALUE=DATE:20230709
DTSTAMP:20260423T082027
CREATED:20230403T073909Z
LAST-MODIFIED:20230403T073909Z
UID:3095-1688774400-1688860799@nkaonline.de
SUMMARY:Liederabend Frauenchor	MGV Liederkranz Neudorf	Haus des Liedes
DESCRIPTION:
URL:https://nkaonline.de/veranstaltung/liederabend-frauenchormgv-liederkranz-neudorfhaus-des-liedes/
LOCATION:Haus des Liedes Neudorf
END:VEVENT
END:VCALENDAR