BEGIN:VCALENDAR
VERSION:2.0
PRODID:-//Neudorfer Kulturausschuss e.V. - ECPv6.0.11//NONSGML v1.0//EN
CALSCALE:GREGORIAN
METHOD:PUBLISH
X-ORIGINAL-URL:https://nkaonline.de
X-WR-CALDESC:Veranstaltungen für Neudorfer Kulturausschuss e.V.
REFRESH-INTERVAL;VALUE=DURATION:PT1H
X-Robots-Tag:noindex
X-PUBLISHED-TTL:PT1H
BEGIN:VTIMEZONE
TZID:Europe/Berlin
BEGIN:DAYLIGHT
TZOFFSETFROM:+0100
TZOFFSETTO:+0200
TZNAME:CEST
DTSTART:20230326T010000
END:DAYLIGHT
BEGIN:STANDARD
TZOFFSETFROM:+0200
TZOFFSETTO:+0100
TZNAME:CET
DTSTART:20231029T010000
END:STANDARD
END:VTIMEZONE
BEGIN:VEVENT
DTSTART;VALUE=DATE:20230721
DTEND;VALUE=DATE:20230723
DTSTAMP:20260423T082303
CREATED:20221114T175840Z
LAST-MODIFIED:20221116T082849Z
UID:2857-1689897600-1690070399@nkaonline.de
SUMMARY:Jubiläumsortsturnier Tennisclub Graben-Neudorf
DESCRIPTION:
URL:https://nkaonline.de/veranstaltung/jubilaeumsortsturniertennisclub-graben-neudorf/
END:VEVENT
END:VCALENDAR