BEGIN:VCALENDAR
VERSION:2.0
PRODID:-//Neudorfer Kulturausschuss e.V. - ECPv6.0.11//NONSGML v1.0//EN
CALSCALE:GREGORIAN
METHOD:PUBLISH
X-WR-CALNAME:Neudorfer Kulturausschuss e.V.
X-ORIGINAL-URL:https://nkaonline.de
X-WR-CALDESC:Veranstaltungen für Neudorfer Kulturausschuss e.V.
REFRESH-INTERVAL;VALUE=DURATION:PT1H
X-Robots-Tag:noindex
X-PUBLISHED-TTL:PT1H
BEGIN:VTIMEZONE
TZID:Europe/Berlin
BEGIN:DAYLIGHT
TZOFFSETFROM:+0100
TZOFFSETTO:+0200
TZNAME:CEST
DTSTART:20240331T010000
END:DAYLIGHT
BEGIN:STANDARD
TZOFFSETFROM:+0200
TZOFFSETTO:+0100
TZNAME:CET
DTSTART:20241027T010000
END:STANDARD
END:VTIMEZONE
BEGIN:VEVENT
DTSTART;VALUE=DATE:20240619
DTEND;VALUE=DATE:20240620
DTSTAMP:20260419T144220
CREATED:20240408T075502Z
LAST-MODIFIED:20240408T075502Z
UID:3266-1718755200-1718841599@nkaonline.de
SUMMARY:Public Viewing Fussball EM	FVgg Neudorf	Vereinsgelände
DESCRIPTION:
URL:https://nkaonline.de/veranstaltung/public-viewing-fussball-emfvgg-neudorfvereinsgelaende-2/
LOCATION:FVgg Neudorf Vereinsgelände
END:VEVENT
END:VCALENDAR