BEGIN:VCALENDAR
VERSION:2.0
PRODID:-//Neudorfer Kulturausschuss e.V. - ECPv6.0.11//NONSGML v1.0//EN
CALSCALE:GREGORIAN
METHOD:PUBLISH
X-ORIGINAL-URL:https://nkaonline.de
X-WR-CALDESC:Veranstaltungen für Neudorfer Kulturausschuss e.V.
REFRESH-INTERVAL;VALUE=DURATION:PT1H
X-Robots-Tag:noindex
X-PUBLISHED-TTL:PT1H
BEGIN:VTIMEZONE
TZID:Europe/Berlin
BEGIN:DAYLIGHT
TZOFFSETFROM:+0100
TZOFFSETTO:+0200
TZNAME:CEST
DTSTART:20220327T010000
END:DAYLIGHT
BEGIN:STANDARD
TZOFFSETFROM:+0200
TZOFFSETTO:+0100
TZNAME:CET
DTSTART:20221030T010000
END:STANDARD
END:VTIMEZONE
BEGIN:VEVENT
DTSTART;TZID=Europe/Berlin:20221001T000000
DTEND;TZID=Europe/Berlin:20221002T000000
DTSTAMP:20260426T052734
CREATED:20221114T175625Z
LAST-MODIFIED:20221114T175625Z
UID:2806-1664582400-1664668800@nkaonline.de
SUMMARY:JHV + Ehrungsabend DRK Graben-Neudorf
DESCRIPTION:
URL:https://nkaonline.de/veranstaltung/jhv-ehrungsabend-drk-graben-neudorf/
END:VEVENT
BEGIN:VEVENT
DTSTART;TZID=Europe/Berlin:20221001T000000
DTEND;TZID=Europe/Berlin:20221002T000000
DTSTAMP:20260426T052734
CREATED:20221114T175640Z
LAST-MODIFIED:20221114T175640Z
UID:2812-1664582400-1664668800@nkaonline.de
SUMMARY:KonzertHarmonika-Freunde 1954 Neudorf e.V.
DESCRIPTION:
URL:https://nkaonline.de/veranstaltung/konzertharmonika-freunde-1954-neudorf-e-v/
END:VEVENT
BEGIN:VEVENT
DTSTART;TZID=Europe/Berlin:20221002T000000
DTEND;TZID=Europe/Berlin:20221003T000000
DTSTAMP:20260426T052734
CREATED:20221114T175710Z
LAST-MODIFIED:20221114T175710Z
UID:2824-1664668800-1664755200@nkaonline.de
SUMMARY:Erntedankfest Obst u. Gartenbauverein  Neudorf
DESCRIPTION:
URL:https://nkaonline.de/veranstaltung/erntedankfest-obst-u-gartenbauverein-neudorf/
LOCATION:Vereinsheim am Bruhrain
END:VEVENT
BEGIN:VEVENT
DTSTART;TZID=Europe/Berlin:20221008T000000
DTEND;TZID=Europe/Berlin:20221011T000000
DTSTAMP:20260426T052734
CREATED:20221114T175507Z
LAST-MODIFIED:20221114T175507Z
UID:2774-1665187200-1665446400@nkaonline.de
SUMMARY:Waldrandkerwe  
DESCRIPTION:
URL:https://nkaonline.de/veranstaltung/waldrandkerwe-2/
END:VEVENT
BEGIN:VEVENT
DTSTART;TZID=Europe/Berlin:20221021T000000
DTEND;TZID=Europe/Berlin:20221023T000000
DTSTAMP:20260426T052734
CREATED:20221114T175625Z
LAST-MODIFIED:20221114T184425Z
UID:2807-1666310400-1666483200@nkaonline.de
SUMMARY:Musical 'Geheimnis der Savanne' Musicalwerkstatt Graben-Neudorf
DESCRIPTION:
URL:https://nkaonline.de/veranstaltung/musical-geheimnis-der-savannemusicalwerkstatt-graben-neudorf/
END:VEVENT
BEGIN:VEVENT
DTSTART;TZID=Europe/Berlin:20221022T000000
DTEND;TZID=Europe/Berlin:20221023T000000
DTSTAMP:20260426T052734
CREATED:20221114T175539Z
LAST-MODIFIED:20221114T175539Z
UID:2788-1666396800-1666483200@nkaonline.de
SUMMARY:Gemeinsamer großer Pflegetag BUND Bruhrain/FV Gnatschko
DESCRIPTION:
URL:https://nkaonline.de/veranstaltung/gemeinsamer-grosser-pflegetag-bund-bruhrain-fv-gnatschko/
END:VEVENT
BEGIN:VEVENT
DTSTART;TZID=Europe/Berlin:20221023T000000
DTEND;TZID=Europe/Berlin:20221024T000000
DTSTAMP:20260426T052734
CREATED:20221114T175510Z
LAST-MODIFIED:20221114T175510Z
UID:2782-1666483200-1666569600@nkaonline.de
SUMMARY:Patrozinium und PfarrfestKatholischen Pfarrgemeinde
DESCRIPTION:
URL:https://nkaonline.de/veranstaltung/patrozinium-und-pfarrfestkatholischen-pfarrgemeinde-3/
END:VEVENT
END:VCALENDAR