BEGIN:VCALENDAR
VERSION:2.0
PRODID:-//Neudorfer Kulturausschuss e.V. - ECPv6.0.11//NONSGML v1.0//EN
CALSCALE:GREGORIAN
METHOD:PUBLISH
X-ORIGINAL-URL:https://nkaonline.de
X-WR-CALDESC:Veranstaltungen für Neudorfer Kulturausschuss e.V.
REFRESH-INTERVAL;VALUE=DURATION:PT1H
X-Robots-Tag:noindex
X-PUBLISHED-TTL:PT1H
BEGIN:VTIMEZONE
TZID:Europe/Berlin
BEGIN:DAYLIGHT
TZOFFSETFROM:+0100
TZOFFSETTO:+0200
TZNAME:CEST
DTSTART:20220327T010000
END:DAYLIGHT
BEGIN:STANDARD
TZOFFSETFROM:+0200
TZOFFSETTO:+0100
TZNAME:CET
DTSTART:20221030T010000
END:STANDARD
END:VTIMEZONE
BEGIN:VEVENT
DTSTART;VALUE=DATE:20221203
DTEND;VALUE=DATE:20221204
DTSTAMP:20260426T022613
CREATED:20221114T175507Z
LAST-MODIFIED:20221116T092313Z
UID:2773-1670025600-1670111999@nkaonline.de
SUMMARY:Festkonzert MGV Liederkranz Neudorf
DESCRIPTION:
URL:https://nkaonline.de/veranstaltung/festkonzert-mgv-liederkranz-neudorf/
LOCATION:Pestalozzi-Halle\, Pestalozzistraße 2\, 76676 Graben-Neudorf\, Deu
END:VEVENT
BEGIN:VEVENT
DTSTART;VALUE=DATE:20221206
DTEND;VALUE=DATE:20221207
DTSTAMP:20260426T022613
CREATED:20221114T175639Z
LAST-MODIFIED:20221116T092151Z
UID:2808-1670284800-1670371199@nkaonline.de
SUMMARY:Blutspendetermin DRK Graben-Neudorf
DESCRIPTION:
URL:https://nkaonline.de/veranstaltung/blutspendetermin-drk-graben-neudorf-4/
LOCATION:Pestalozzi-Halle\, Pestalozzistraße 2\, 76676 Graben-Neudorf\, Deu
END:VEVENT
BEGIN:VEVENT
DTSTART;VALUE=DATE:20221217
DTEND;VALUE=DATE:20221218
DTSTAMP:20260426T022613
CREATED:20221129T142315Z
LAST-MODIFIED:20221201T094112Z
UID:2950-1671235200-1671321599@nkaonline.de
SUMMARY:Verkauf frisch geräucherter Forellen
DESCRIPTION:
URL:https://nkaonline.de/veranstaltung/verkauf-frisch-geraeucherter-forellen/
LOCATION:Vereinsgelände
END:VEVENT
BEGIN:VEVENT
DTSTART;VALUE=DATE:20221218
DTEND;VALUE=DATE:20221219
DTSTAMP:20260426T022613
CREATED:20221114T175455Z
LAST-MODIFIED:20221116T092357Z
UID:2772-1671321600-1671407999@nkaonline.de
SUMMARY:Kirchenkonzert Musikverein Concordia Neudorf
DESCRIPTION:
URL:https://nkaonline.de/veranstaltung/kirchenkonzertmusikverein-concordia-neudorf/
LOCATION:St. Wendelinus Kirche\, Mannheimer Str. 100\, 76676 Graben-Neudorf
END:VEVENT
END:VCALENDAR