BEGIN:VCALENDAR
VERSION:2.0
PRODID:-//Neudorfer Kulturausschuss e.V. - ECPv6.0.11//NONSGML v1.0//EN
CALSCALE:GREGORIAN
METHOD:PUBLISH
X-ORIGINAL-URL:https://nkaonline.de
X-WR-CALDESC:Veranstaltungen für Neudorfer Kulturausschuss e.V.
REFRESH-INTERVAL;VALUE=DURATION:PT1H
X-Robots-Tag:noindex
X-PUBLISHED-TTL:PT1H
BEGIN:VTIMEZONE
TZID:Europe/Berlin
BEGIN:DAYLIGHT
TZOFFSETFROM:+0100
TZOFFSETTO:+0200
TZNAME:CEST
DTSTART:20230326T010000
END:DAYLIGHT
BEGIN:STANDARD
TZOFFSETFROM:+0200
TZOFFSETTO:+0100
TZNAME:CET
DTSTART:20231029T010000
END:STANDARD
END:VTIMEZONE
BEGIN:VEVENT
DTSTART;VALUE=DATE:20230107
DTEND;VALUE=DATE:20230108
DTSTAMP:20260426T004144
CREATED:20221114T175840Z
LAST-MODIFIED:20221116T091620Z
UID:2855-1673049600-1673135999@nkaonline.de
SUMMARY:Tennis-Club meets Glühwein Tennisclub Graben-Neudorf
DESCRIPTION:
URL:https://nkaonline.de/veranstaltung/tennis-club-meets-gluehweintennisclub-graben-neudorf/
LOCATION:Tennisplatz
END:VEVENT
BEGIN:VEVENT
DTSTART;VALUE=DATE:20230108
DTEND;VALUE=DATE:20230109
DTSTAMP:20260426T004144
CREATED:20221114T175610Z
LAST-MODIFIED:20221116T091541Z
UID:2799-1673136000-1673222399@nkaonline.de
SUMMARY:Intern. U14-REWE-CUP 2023  Förderverein SG Graben-Neudorf
DESCRIPTION:
URL:https://nkaonline.de/veranstaltung/intern-u14-rewe-cup-2023-foerderverein-sg-graben-neudorf/
LOCATION:Pestalozzi-Halle\, Pestalozzistraße 2\, 76676 Graben-Neudorf\, Deu
END:VEVENT
BEGIN:VEVENT
DTSTART;VALUE=DATE:20230113
DTEND;VALUE=DATE:20230114
DTSTAMP:20260426T004144
CREATED:20221114T175907Z
LAST-MODIFIED:20221116T091431Z
UID:2863-1673568000-1673654399@nkaonline.de
SUMMARY:Neujahrsempfang der Gemeinde
DESCRIPTION:
URL:https://nkaonline.de/veranstaltung/neujahrsempfang-der-gemeinde/
LOCATION:Pestalozzi-Halle\, Pestalozzistraße 2\, 76676 Graben-Neudorf\, Deu
END:VEVENT
BEGIN:VEVENT
DTSTART;VALUE=DATE:20230121
DTEND;VALUE=DATE:20230122
DTSTAMP:20260426T004144
CREATED:20221114T175740Z
LAST-MODIFIED:20221116T091349Z
UID:2835-1674259200-1674345599@nkaonline.de
SUMMARY:Altpapiersammlung TSV Graben OT Graben
DESCRIPTION:
URL:https://nkaonline.de/veranstaltung/altpapiersammlungtsv-grabenot-graben/
LOCATION:OT Graben
END:VEVENT
BEGIN:VEVENT
DTSTART;VALUE=DATE:20230128
DTEND;VALUE=DATE:20230129
DTSTAMP:20260426T004144
CREATED:20221114T175725Z
LAST-MODIFIED:20221116T091240Z
UID:2829-1674864000-1674950399@nkaonline.de
SUMMARY:Prunksitzung NeuKaGe
DESCRIPTION:
URL:https://nkaonline.de/veranstaltung/prunksitzungneukage-4/
LOCATION:Pestalozzi-Halle\, Pestalozzistraße 2\, 76676 Graben-Neudorf\, Deu
END:VEVENT
END:VCALENDAR