BEGIN:VCALENDAR
VERSION:2.0
PRODID:-//Neudorfer Kulturausschuss e.V. - ECPv6.0.11//NONSGML v1.0//EN
CALSCALE:GREGORIAN
METHOD:PUBLISH
X-ORIGINAL-URL:https://nkaonline.de
X-WR-CALDESC:Veranstaltungen für Neudorfer Kulturausschuss e.V.
REFRESH-INTERVAL;VALUE=DURATION:PT1H
X-Robots-Tag:noindex
X-PUBLISHED-TTL:PT1H
BEGIN:VTIMEZONE
TZID:Europe/Berlin
BEGIN:DAYLIGHT
TZOFFSETFROM:+0100
TZOFFSETTO:+0200
TZNAME:CEST
DTSTART:20230326T010000
END:DAYLIGHT
BEGIN:STANDARD
TZOFFSETFROM:+0200
TZOFFSETTO:+0100
TZNAME:CET
DTSTART:20231029T010000
END:STANDARD
END:VTIMEZONE
BEGIN:VEVENT
DTSTART;VALUE=DATE:20230402
DTEND;VALUE=DATE:20230403
DTSTAMP:20260423T114746
CREATED:20230313T152237Z
LAST-MODIFIED:20230313T152237Z
UID:2996-1680393600-1680479999@nkaonline.de
SUMMARY:Turnen Kraichturngau Pokal	TSV Graben-Neudorf	Pestalozzihalle
DESCRIPTION:
URL:https://nkaonline.de/veranstaltung/turnen-kraichturngau-pokaltsv-graben-neudorfpestalozzihalle/
LOCATION:Pestalozzi-Halle\, Pestalozzistraße 2\, 76676 Graben-Neudorf\, Deu
END:VEVENT
BEGIN:VEVENT
DTSTART;VALUE=DATE:20230402
DTEND;VALUE=DATE:20230403
DTSTAMP:20260423T114746
CREATED:20221114T175710Z
LAST-MODIFIED:20221116T085955Z
UID:2826-1680393600-1680479999@nkaonline.de
SUMMARY:Fastenessen 'Fröhlich sein\, Gutes tun und etwas Leckeres essen' Palmsonntag
DESCRIPTION:
URL:https://nkaonline.de/veranstaltung/fastenessen-froehlich-sein-gutes-tun-und-etwas-leckeres-essen-palmsonntag/
LOCATION:Pfarrzentrum Don Bosco
END:VEVENT
BEGIN:VEVENT
DTSTART;TZID=Europe/Berlin:20230403T000000
DTEND;TZID=Europe/Berlin:20230403T000000
DTSTAMP:20260423T114746
CREATED:20230403T074449Z
LAST-MODIFIED:20230403T074449Z
UID:3099-1680480000-1680480000@nkaonline.de
SUMMARY:Herbstsitzung des NKA
DESCRIPTION:
URL:https://nkaonline.de/veranstaltung/herbstsitzung-des-nka-2/
LOCATION:Rathaus\, Werner Juchler Platz\, Graben-Neudorf\, Deutschland
END:VEVENT
BEGIN:VEVENT
DTSTART;VALUE=DATE:20230404
DTEND;VALUE=DATE:20230405
DTSTAMP:20260423T114746
CREATED:20221114T175825Z
LAST-MODIFIED:20221116T085821Z
UID:2851-1680566400-1680652799@nkaonline.de
SUMMARY:Blutspendetermin DRK Graben-Neudorf
DESCRIPTION:
URL:https://nkaonline.de/veranstaltung/blutspendetermin-drk-graben-neudorf-7/
LOCATION:Pestalozzi-Halle\, Pestalozzistraße 2\, 76676 Graben-Neudorf\, Deu
END:VEVENT
BEGIN:VEVENT
DTSTART;VALUE=DATE:20230407
DTEND;VALUE=DATE:20230408
DTSTAMP:20260423T114746
CREATED:20221114T175907Z
LAST-MODIFIED:20221116T085746Z
UID:2865-1680825600-1680911999@nkaonline.de
SUMMARY:Karfreitag Fischverkauf Sportfischerverein Neudorf
DESCRIPTION:
URL:https://nkaonline.de/veranstaltung/karfreitag-fischverkaufsportfischerverein-neudorf-5/
LOCATION:Sportplatz Fvgg Neudorf
END:VEVENT
BEGIN:VEVENT
DTSTART;VALUE=DATE:20230415
DTEND;VALUE=DATE:20230416
DTSTAMP:20260423T114746
CREATED:20221114T175755Z
LAST-MODIFIED:20221116T085529Z
UID:2841-1681516800-1681603199@nkaonline.de
SUMMARY:Altpapiersammlung OT Graben TSV Graben-Neudorf
DESCRIPTION:
URL:https://nkaonline.de/veranstaltung/altpapiersammlung-ot-grabentsv-graben-neudorf/
LOCATION:OT Graben
END:VEVENT
BEGIN:VEVENT
DTSTART;VALUE=DATE:20230416
DTEND;VALUE=DATE:20230417
DTSTAMP:20260423T114746
CREATED:20221114T175840Z
LAST-MODIFIED:20221202T075359Z
UID:2856-1681603200-1681689599@nkaonline.de
SUMMARY:Saisoneröffnung mit Tag der offenen Tür Tennisclub Graben-Neudorf
DESCRIPTION:
URL:https://nkaonline.de/veranstaltung/saisoneroeffnung-der-offenen-tuer-tennisclub-graben-neudorf/
LOCATION:Tennisplatz
END:VEVENT
BEGIN:VEVENT
DTSTART;VALUE=DATE:20230423
DTEND;VALUE=DATE:20230424
DTSTAMP:20260423T114746
CREATED:20221114T175855Z
LAST-MODIFIED:20221116T085358Z
UID:2860-1682208000-1682294399@nkaonline.de
SUMMARY:Blechkuchenfest MGV Liederkranz Neudorf
DESCRIPTION:
URL:https://nkaonline.de/veranstaltung/blechkuchenfest-mgv-liederkranz-neudorf-3/
LOCATION:Haus des Liedes
END:VEVENT
BEGIN:VEVENT
DTSTART;VALUE=DATE:20230430
DTEND;VALUE=DATE:20230501
DTSTAMP:20260423T114746
CREATED:20221201T092800Z
LAST-MODIFIED:20221201T092800Z
UID:2958-1682812800-1682899199@nkaonline.de
SUMMARY:Walpurgisnacht   
DESCRIPTION:
URL:https://nkaonline.de/veranstaltung/walpurgisnacht/
LOCATION:Schützenhaus des SVg Hubertus Neudorf
END:VEVENT
BEGIN:VEVENT
DTSTART;VALUE=DATE:20230430
DTEND;VALUE=DATE:20230501
DTSTAMP:20260423T114746
CREATED:20230313T152336Z
LAST-MODIFIED:20230313T152336Z
UID:2998-1682812800-1682899199@nkaonline.de
SUMMARY:Tanz in den Mai	TSV Graben-Neudorf	TSV Platz / Neudorf
DESCRIPTION:
URL:https://nkaonline.de/veranstaltung/tanz-in-den-maitsv-graben-neudorftsv-platz-neudorf/
LOCATION:TSV Neudorf Sportgelände\, Jahnstraße 11\, 76676 Graben-Neudorf\,
END:VEVENT
END:VCALENDAR