BEGIN:VCALENDAR
VERSION:2.0
PRODID:-//Neudorfer Kulturausschuss e.V. - ECPv6.0.11//NONSGML v1.0//EN
CALSCALE:GREGORIAN
METHOD:PUBLISH
X-ORIGINAL-URL:https://nkaonline.de
X-WR-CALDESC:Veranstaltungen für Neudorfer Kulturausschuss e.V.
REFRESH-INTERVAL;VALUE=DURATION:PT1H
X-Robots-Tag:noindex
X-PUBLISHED-TTL:PT1H
BEGIN:VTIMEZONE
TZID:Europe/Berlin
BEGIN:DAYLIGHT
TZOFFSETFROM:+0100
TZOFFSETTO:+0200
TZNAME:CEST
DTSTART:20230326T010000
END:DAYLIGHT
BEGIN:STANDARD
TZOFFSETFROM:+0200
TZOFFSETTO:+0100
TZNAME:CET
DTSTART:20231029T010000
END:STANDARD
END:VTIMEZONE
BEGIN:VEVENT
DTSTART;VALUE=DATE:20230610
DTEND;VALUE=DATE:20230611
DTSTAMP:20260423T082438
CREATED:20221201T092928Z
LAST-MODIFIED:20221201T092928Z
UID:2961-1686355200-1686441599@nkaonline.de
SUMMARY:Frühlingsfest
DESCRIPTION:
URL:https://nkaonline.de/veranstaltung/fruehlingsfest/
LOCATION:OGV Vereinsheim
END:VEVENT
BEGIN:VEVENT
DTSTART;VALUE=DATE:20230617
DTEND;VALUE=DATE:20230619
DTSTAMP:20260423T082438
CREATED:20221201T093103Z
LAST-MODIFIED:20221201T093103Z
UID:2963-1686960000-1687132799@nkaonline.de
SUMMARY:Opti/420er Regatta
DESCRIPTION:
URL:https://nkaonline.de/veranstaltung/opti-420er-regatta/
LOCATION:Hardtsee Bruhrain
END:VEVENT
BEGIN:VEVENT
DTSTART;VALUE=DATE:20230624
DTEND;VALUE=DATE:20230625
DTSTAMP:20260423T082438
CREATED:20230320T084840Z
LAST-MODIFIED:20230320T084840Z
UID:3046-1687564800-1687651199@nkaonline.de
SUMMARY:open air Konzert Musikverein Concordia Neudorf
DESCRIPTION:
URL:https://nkaonline.de/veranstaltung/open-air-konzert-musikverein-concordia-neudorf-2/
LOCATION:Schulhof der Erich-Kästner Grundschule Neudorf
END:VEVENT
BEGIN:VEVENT
DTSTART;VALUE=DATE:20230624
DTEND;VALUE=DATE:20230625
DTSTAMP:20260423T082438
CREATED:20221114T175810Z
LAST-MODIFIED:20221116T083247Z
UID:2845-1687564800-1687651199@nkaonline.de
SUMMARY:Altpapiersammlung OT Graben TSV Graben-Neudorf
DESCRIPTION:
URL:https://nkaonline.de/veranstaltung/altpapiersammlung-ot-grabentsv-graben-neudorf-2/
END:VEVENT
BEGIN:VEVENT
DTSTART;VALUE=DATE:20230625
DTEND;VALUE=DATE:20230627
DTSTAMP:20260423T082438
CREATED:20221114T175725Z
LAST-MODIFIED:20221116T085243Z
UID:2832-1687651200-1687823999@nkaonline.de
SUMMARY:Sommerfest Hundesportverein Neudorf
DESCRIPTION:
URL:https://nkaonline.de/veranstaltung/sommerfest-hundesportverein-neudorf-4/
LOCATION:Vereinsgelände
END:VEVENT
BEGIN:VEVENT
DTSTART;VALUE=DATE:20230630
DTEND;VALUE=DATE:20230703
DTSTAMP:20260423T082438
CREATED:20221114T175707Z
LAST-MODIFIED:20221116T085217Z
UID:2819-1688083200-1688342399@nkaonline.de
SUMMARY:Sportfest der FVgg Neudorf FVgg Neudorf
DESCRIPTION:
URL:https://nkaonline.de/veranstaltung/sportfest-der-fvgg-neudorf-fvgg-neudorf/
LOCATION:Vereinsgelände
END:VEVENT
END:VCALENDAR