BEGIN:VCALENDAR
VERSION:2.0
PRODID:-//Neudorfer Kulturausschuss e.V. - ECPv6.0.11//NONSGML v1.0//EN
CALSCALE:GREGORIAN
METHOD:PUBLISH
X-WR-CALNAME:Neudorfer Kulturausschuss e.V.
X-ORIGINAL-URL:https://nkaonline.de
X-WR-CALDESC:Veranstaltungen für Neudorfer Kulturausschuss e.V.
REFRESH-INTERVAL;VALUE=DURATION:PT1H
X-Robots-Tag:noindex
X-PUBLISHED-TTL:PT1H
BEGIN:VTIMEZONE
TZID:Europe/Berlin
BEGIN:DAYLIGHT
TZOFFSETFROM:+0100
TZOFFSETTO:+0200
TZNAME:CEST
DTSTART:20230326T010000
END:DAYLIGHT
BEGIN:STANDARD
TZOFFSETFROM:+0200
TZOFFSETTO:+0100
TZNAME:CET
DTSTART:20231029T010000
END:STANDARD
END:VTIMEZONE
BEGIN:VEVENT
DTSTART;VALUE=DATE:20230630
DTEND;VALUE=DATE:20230703
DTSTAMP:20260423T064340
CREATED:20221114T175707Z
LAST-MODIFIED:20221116T085217Z
UID:2819-1688083200-1688342399@nkaonline.de
SUMMARY:Sportfest der FVgg Neudorf FVgg Neudorf
DESCRIPTION:
URL:https://nkaonline.de/veranstaltung/sportfest-der-fvgg-neudorf-fvgg-neudorf/
LOCATION:Vereinsgelände
END:VEVENT
BEGIN:VEVENT
DTSTART;VALUE=DATE:20230705
DTEND;VALUE=DATE:20230706
DTSTAMP:20260423T064340
CREATED:20221114T175825Z
LAST-MODIFIED:20221116T085201Z
UID:2850-1688515200-1688601599@nkaonline.de
SUMMARY:Blutspendetermin DRK Graben-Neudorf
DESCRIPTION:
URL:https://nkaonline.de/veranstaltung/blutspendetermin-drk-graben-neudorf-6/
LOCATION:Pestalozzi-Halle\, Pestalozzistraße 2\, 76676 Graben-Neudorf\, Deu
END:VEVENT
BEGIN:VEVENT
DTSTART;TZID=Europe/Berlin:20230707T150000
DTEND;TZID=Europe/Berlin:20230707T180000
DTSTAMP:20260423T064340
CREATED:20230314T092315Z
LAST-MODIFIED:20230316T073627Z
UID:3013-1688742000-1688752800@nkaonline.de
SUMMARY:Schlüsselübergabe Gebäude Sofienstraße 30	  Sorgende Gemeinde Graben-Neudorf
DESCRIPTION:
URL:https://nkaonline.de/veranstaltung/schluesseluebergabe-gebaeude-sofienstrasse-30-sorgende-gemeinde-graben-neudorf/
LOCATION:Sofienstraße 30  / OT Graben
END:VEVENT
BEGIN:VEVENT
DTSTART;VALUE=DATE:20230708
DTEND;VALUE=DATE:20230709
DTSTAMP:20260423T064340
CREATED:20230403T073909Z
LAST-MODIFIED:20230403T073909Z
UID:3095-1688774400-1688860799@nkaonline.de
SUMMARY:Liederabend Frauenchor	MGV Liederkranz Neudorf	Haus des Liedes
DESCRIPTION:
URL:https://nkaonline.de/veranstaltung/liederabend-frauenchormgv-liederkranz-neudorfhaus-des-liedes/
LOCATION:Haus des Liedes Neudorf
END:VEVENT
BEGIN:VEVENT
DTSTART;VALUE=DATE:20230709
DTEND;VALUE=DATE:20230711
DTSTAMP:20260423T064340
CREATED:20221114T175707Z
LAST-MODIFIED:20221116T085143Z
UID:2818-1688860800-1689033599@nkaonline.de
SUMMARY:Schützenfest Schützenverein Neudorf
DESCRIPTION:
URL:https://nkaonline.de/veranstaltung/schuetzenfestschuetzenverein-neudorf-3/
LOCATION:Schützenhaus
END:VEVENT
BEGIN:VEVENT
DTSTART;VALUE=DATE:20230708
DTEND;VALUE=DATE:20230710
DTSTAMP:20260423T064340
CREATED:20221115T175755Z
LAST-MODIFIED:20230124T095316Z
UID:2842-1688774400-1688947199@nkaonline.de
SUMMARY:TBW Trophy Tanzturnier TSV Graben-Neudorf
DESCRIPTION:
URL:https://nkaonline.de/veranstaltung/tbw-trophy-tanzturniertsv-graben-neudorf/
LOCATION:Pestalozzi-Halle\, Pestalozzistraße 2\, 76676 Graben-Neudorf\, Deu
END:VEVENT
BEGIN:VEVENT
DTSTART;VALUE=DATE:20230715
DTEND;VALUE=DATE:20230717
DTSTAMP:20260423T064340
CREATED:20221114T175707Z
LAST-MODIFIED:20221116T082927Z
UID:2820-1689379200-1689551999@nkaonline.de
SUMMARY:Feuerwehrfest Feuerwehr Graben-Neudorf
DESCRIPTION:
URL:https://nkaonline.de/veranstaltung/feuerwehrfest-feuerwehr-graben-neudorf/
END:VEVENT
BEGIN:VEVENT
DTSTART;VALUE=DATE:20230721
DTEND;VALUE=DATE:20230723
DTSTAMP:20260423T064340
CREATED:20221114T175840Z
LAST-MODIFIED:20221116T082849Z
UID:2857-1689897600-1690070399@nkaonline.de
SUMMARY:Jubiläumsortsturnier Tennisclub Graben-Neudorf
DESCRIPTION:
URL:https://nkaonline.de/veranstaltung/jubilaeumsortsturniertennisclub-graben-neudorf/
END:VEVENT
BEGIN:VEVENT
DTSTART;VALUE=DATE:20230722
DTEND;VALUE=DATE:20230723
DTSTAMP:20260423T064340
CREATED:20230313T152650Z
LAST-MODIFIED:20230313T152650Z
UID:3006-1689984000-1690070399@nkaonline.de
SUMMARY:Turnwettkampf Gauliga	TSV Graben-Neudorf	Pestalozzihalle
DESCRIPTION:
URL:https://nkaonline.de/veranstaltung/turnwettkampf-gauligatsv-graben-neudorfpestalozzihalle/
LOCATION:Pestalozzi-Halle\, Pestalozzistraße 2\, 76676 Graben-Neudorf\, Deu
END:VEVENT
BEGIN:VEVENT
DTSTART;VALUE=DATE:20230722
DTEND;VALUE=DATE:20230724
DTSTAMP:20260423T064340
CREATED:20221114T175908Z
LAST-MODIFIED:20221116T082639Z
UID:2866-1689984000-1690156799@nkaonline.de
SUMMARY:Fischerfest Sportfischerverein Neudorf
DESCRIPTION:
URL:https://nkaonline.de/veranstaltung/fischerfestsportfischerverein-neudorf-2/
LOCATION:Grillhütte beim Prestelsee
END:VEVENT
END:VCALENDAR