BEGIN:VCALENDAR
VERSION:2.0
PRODID:-//Neudorfer Kulturausschuss e.V. - ECPv6.0.11//NONSGML v1.0//EN
CALSCALE:GREGORIAN
METHOD:PUBLISH
X-WR-CALNAME:Neudorfer Kulturausschuss e.V.
X-ORIGINAL-URL:https://nkaonline.de
X-WR-CALDESC:Veranstaltungen für Neudorfer Kulturausschuss e.V.
REFRESH-INTERVAL;VALUE=DURATION:PT1H
X-Robots-Tag:noindex
X-PUBLISHED-TTL:PT1H
BEGIN:VTIMEZONE
TZID:Europe/Berlin
BEGIN:DAYLIGHT
TZOFFSETFROM:+0100
TZOFFSETTO:+0200
TZNAME:CEST
DTSTART:20230326T010000
END:DAYLIGHT
BEGIN:STANDARD
TZOFFSETFROM:+0200
TZOFFSETTO:+0100
TZNAME:CET
DTSTART:20231029T010000
END:STANDARD
END:VTIMEZONE
BEGIN:VEVENT
DTSTART;VALUE=DATE:20230915
DTEND;VALUE=DATE:20230918
DTSTAMP:20260423T033112
CREATED:20221130T132914Z
LAST-MODIFIED:20221130T132914Z
UID:2953-1694736000-1694995199@nkaonline.de
SUMMARY:Oktoberfest Musikverein Concordia Neudorf
DESCRIPTION:
URL:https://nkaonline.de/veranstaltung/oktoberfest-musikverein-concordia-neudorf/
LOCATION:Neudorfer Wies’n
END:VEVENT
BEGIN:VEVENT
DTSTART;VALUE=DATE:20230922
DTEND;VALUE=DATE:20230923
DTSTAMP:20260423T033112
CREATED:20221114T175739Z
LAST-MODIFIED:20221116T082717Z
UID:2833-1695340800-1695427199@nkaonline.de
SUMMARY:Preisverleihung Blumenschmuckwettbewerb    Obst u. Gartenbauverein  Neudorf
DESCRIPTION:
URL:https://nkaonline.de/veranstaltung/preisverleihung-blumenschmuckwettbewerb-obst-u-gartenbauverein-neudorf-3/
END:VEVENT
BEGIN:VEVENT
DTSTART;VALUE=DATE:20230923
DTEND;VALUE=DATE:20230924
DTSTAMP:20260423T033112
CREATED:20221114T175855Z
LAST-MODIFIED:20221116T084919Z
UID:2858-1695427200-1695513599@nkaonline.de
SUMMARY:Leistungsklassenturnier Tennisclub Graben-Neudorf
DESCRIPTION:
URL:https://nkaonline.de/veranstaltung/leistungsklassenturniertennisclub-graben-neudorf-9/
LOCATION:Tennisplatz
END:VEVENT
BEGIN:VEVENT
DTSTART;VALUE=DATE:20230924
DTEND;VALUE=DATE:20230925
DTSTAMP:20260423T033112
CREATED:20230313T152826Z
LAST-MODIFIED:20230313T152826Z
UID:3008-1695513600-1695599999@nkaonline.de
SUMMARY:Senioren Tanznachmittag der TSA 	TSV Graben-Neudorf	TSV Halle Neudorf
DESCRIPTION:
URL:https://nkaonline.de/veranstaltung/senioren-tanznachmittag-der-tsa-tsv-graben-neudorftsv-halle-neudorf/
LOCATION:Petermann-Halle
END:VEVENT
BEGIN:VEVENT
DTSTART;VALUE=DATE:20230930
DTEND;VALUE=DATE:20231002
DTSTAMP:20260423T033112
CREATED:20221114T175740Z
LAST-MODIFIED:20221116T084851Z
UID:2834-1696032000-1696204799@nkaonline.de
SUMMARY:Erntedankfest Obst u. Gartenbauverein  Neudorf
DESCRIPTION:
URL:https://nkaonline.de/veranstaltung/erntedankfestobst-u-gartenbauverein-neudorf-3/
LOCATION:Vereinsheim am Bruhrain
END:VEVENT
END:VCALENDAR