BEGIN:VCALENDAR
VERSION:2.0
PRODID:-//Neudorfer Kulturausschuss e.V. - ECPv6.0.11//NONSGML v1.0//EN
CALSCALE:GREGORIAN
METHOD:PUBLISH
X-ORIGINAL-URL:https://nkaonline.de
X-WR-CALDESC:Veranstaltungen für Neudorfer Kulturausschuss e.V.
REFRESH-INTERVAL;VALUE=DURATION:PT1H
X-Robots-Tag:noindex
X-PUBLISHED-TTL:PT1H
BEGIN:VTIMEZONE
TZID:Europe/Berlin
BEGIN:DAYLIGHT
TZOFFSETFROM:+0100
TZOFFSETTO:+0200
TZNAME:CEST
DTSTART:20230326T010000
END:DAYLIGHT
BEGIN:STANDARD
TZOFFSETFROM:+0200
TZOFFSETTO:+0100
TZNAME:CET
DTSTART:20231029T010000
END:STANDARD
END:VTIMEZONE
BEGIN:VEVENT
DTSTART;VALUE=DATE:20231028
DTEND;VALUE=DATE:20231106
DTSTAMP:20260422T195942
CREATED:20230926T065548Z
LAST-MODIFIED:20230926T071322Z
UID:3121-1698451200-1699228799@nkaonline.de
SUMMARY:Fotoausstellung	Fotoclub Graben-Neudorf	Aula Pestalozzischule
DESCRIPTION:
URL:https://nkaonline.de/veranstaltung/28-10-05-11-fotoausstellungfotoclub-graben-neudorfaula-pestalozzischule/
LOCATION:Aula der Pestalozzi-‚GM-Schule
END:VEVENT
BEGIN:VEVENT
DTSTART;VALUE=DATE:20231110
DTEND;VALUE=DATE:20231111
DTSTAMP:20260422T195942
CREATED:20221201T093342Z
LAST-MODIFIED:20230313T153559Z
UID:2969-1699574400-1699660799@nkaonline.de
SUMMARY:Kampagneneröffnung	1. Neudorfer Hexenzunft 	Neue Mitte Spross 	Mitte
DESCRIPTION:
URL:https://nkaonline.de/veranstaltung/kampagneneroeffnung/
LOCATION:Neue Mitte
END:VEVENT
BEGIN:VEVENT
DTSTART;VALUE=DATE:20231111
DTEND;VALUE=DATE:20231112
DTSTAMP:20260422T195942
CREATED:20221215T075907Z
LAST-MODIFIED:20221215T075907Z
UID:2972-1699660800-1699747199@nkaonline.de
SUMMARY:Kampagne Eröffnung / Inthronisation 	NeuKaGe	 /Haus des Liedes
DESCRIPTION:
URL:https://nkaonline.de/veranstaltung/kampagne-eroeffnung-inthronisation-neukage-haus-des-liedes/
LOCATION:Haus des Liedes
END:VEVENT
BEGIN:VEVENT
DTSTART;VALUE=DATE:20231111
DTEND;VALUE=DATE:20231112
DTSTAMP:20260422T195942
CREATED:20221114T175810Z
LAST-MODIFIED:20221116T082811Z
UID:2847-1699660800-1699747199@nkaonline.de
SUMMARY:Kesselfleischessen Förderverein des TSV Graben-Neudorf eV
DESCRIPTION:
URL:https://nkaonline.de/veranstaltung/kesselfleischessen-foerderverein-des-tsv-graben-neudorf-ev/
END:VEVENT
BEGIN:VEVENT
DTSTART;VALUE=DATE:20231118
DTEND;VALUE=DATE:20231119
DTSTAMP:20260422T195942
CREATED:20230313T152930Z
LAST-MODIFIED:20230313T152930Z
UID:3010-1700265600-1700351999@nkaonline.de
SUMMARY:Herbstball der Tanzsportabteilung	TSV Graben-Neudorf	Pestalozzihalle	Mitte
DESCRIPTION:
URL:https://nkaonline.de/veranstaltung/herbstball-der-tanzsportabteilungtsv-graben-neudorfpestalozzihallemitte/
LOCATION:Pestalozzi-Halle\, Pestalozzistraße 2\, 76676 Graben-Neudorf\, Deu
END:VEVENT
BEGIN:VEVENT
DTSTART;VALUE=DATE:20231125
DTEND;VALUE=DATE:20231126
DTSTAMP:20260422T195942
CREATED:20230403T074053Z
LAST-MODIFIED:20230403T074053Z
UID:3097-1700870400-1700956799@nkaonline.de
SUMMARY:Sportpolitischer Frühschoppen	Sportkreis Bruchsal + Gemeinde GN
DESCRIPTION:
URL:https://nkaonline.de/veranstaltung/sportpolitischer-fruehschoppensportkreis-bruchsal-gemeinde-gn/
END:VEVENT
BEGIN:VEVENT
DTSTART;VALUE=DATE:20231125
DTEND;VALUE=DATE:20231126
DTSTAMP:20260422T195942
CREATED:20221114T175839Z
LAST-MODIFIED:20221116T084309Z
UID:2853-1700870400-1700956799@nkaonline.de
SUMMARY:Konzert MGV Frohsinn
DESCRIPTION:
URL:https://nkaonline.de/veranstaltung/konzertmgv-frohsinn-3/
LOCATION:Pestalozzi-Halle\, Pestalozzistraße 2\, 76676 Graben-Neudorf\, Deu
END:VEVENT
END:VCALENDAR