BEGIN:VCALENDAR
VERSION:2.0
PRODID:-//Neudorfer Kulturausschuss e.V. - ECPv6.0.11//NONSGML v1.0//EN
CALSCALE:GREGORIAN
METHOD:PUBLISH
X-WR-CALNAME:Neudorfer Kulturausschuss e.V.
X-ORIGINAL-URL:https://nkaonline.de
X-WR-CALDESC:Veranstaltungen für Neudorfer Kulturausschuss e.V.
REFRESH-INTERVAL;VALUE=DURATION:PT1H
X-Robots-Tag:noindex
X-PUBLISHED-TTL:PT1H
BEGIN:VTIMEZONE
TZID:Europe/Berlin
BEGIN:DAYLIGHT
TZOFFSETFROM:+0100
TZOFFSETTO:+0200
TZNAME:CEST
DTSTART:20240331T010000
END:DAYLIGHT
BEGIN:STANDARD
TZOFFSETFROM:+0200
TZOFFSETTO:+0100
TZNAME:CET
DTSTART:20241027T010000
END:STANDARD
END:VTIMEZONE
BEGIN:VEVENT
DTSTART;VALUE=DATE:20240309
DTEND;VALUE=DATE:20240310
DTSTAMP:20260419T174814
CREATED:20231108T092436Z
LAST-MODIFIED:20231108T092436Z
UID:3144-1709942400-1710028799@nkaonline.de
SUMMARY:RSG Gaumeisterschaften Jugend	TSV Graben-Neudorf	Adolf-Kußmaul-Halle	GRA
DESCRIPTION:
URL:https://nkaonline.de/veranstaltung/rsg-gaumeisterschaften-jugendtsv-graben-neudorfadolf-kussmaul-hallegra/
LOCATION:Adolf Kußmaul-Halle OT Graben
END:VEVENT
BEGIN:VEVENT
DTSTART;VALUE=DATE:20240322
DTEND;VALUE=DATE:20240323
DTSTAMP:20260419T174814
CREATED:20231129T083153Z
LAST-MODIFIED:20240312T130224Z
UID:3225-1711065600-1711151999@nkaonline.de
SUMMARY:Frühjahrssitzung des NKA	Neudorfer Kulturausschuss
DESCRIPTION:
URL:https://nkaonline.de/veranstaltung/fruehjahrssitzung-des-nkaneudorfer-kulturausschuss/
LOCATION:Feuerwehrhaus Neudorf\, Rathausstraße 4\, 76676 Graben-Neudorf\, D
END:VEVENT
BEGIN:VEVENT
DTSTART;VALUE=DATE:20240323
DTEND;VALUE=DATE:20240324
DTSTAMP:20260419T174814
CREATED:20231113T091706Z
LAST-MODIFIED:20231113T091706Z
UID:3171-1711152000-1711238399@nkaonline.de
SUMMARY:Konzert	Musikverein Concordia Neudorf	Pestalozzihalle	Mitte
DESCRIPTION:
URL:https://nkaonline.de/veranstaltung/konzertmusikverein-concordia-neudorfpestalozzihallemitte/
LOCATION:Pestalozzi-Halle\, Pestalozzistraße 2\, 76676 Graben-Neudorf\, Deu
END:VEVENT
BEGIN:VEVENT
DTSTART;VALUE=DATE:20240324
DTEND;VALUE=DATE:20240325
DTSTAMP:20260419T174814
CREATED:20231204T120847Z
LAST-MODIFIED:20231204T120847Z
UID:3229-1711238400-1711324799@nkaonline.de
SUMMARY:Fröhlich sein\, Gutes tun und etwas Leckeres essen	Katholischen Pfarrgemeinde	Pfarrzentrum Don Bosco	NEU
DESCRIPTION:
URL:https://nkaonline.de/veranstaltung/froehlich-sein-gutes-tun-und-etwas-leckeres-essenkatholischen-pfarrgemeindepfarrzentrum-don-bosconeu/
LOCATION:Don Bosco\, Hofstraße 16\, 76676 Graben-Neudorf\, Deutschland
END:VEVENT
BEGIN:VEVENT
DTSTART;VALUE=DATE:20240329
DTEND;VALUE=DATE:20240330
DTSTAMP:20260419T174814
CREATED:20231114T114546Z
LAST-MODIFIED:20231114T114546Z
UID:3177-1711670400-1711756799@nkaonline.de
SUMMARY:Karfreitag Fischverkauf	Sportfischerverein Neudorf	Sportplatz Fvgg Neudorf	NEU
DESCRIPTION:
URL:https://nkaonline.de/veranstaltung/karfreitag-fischverkaufsportfischerverein-neudorfsportplatz-fvgg-neudorfneu/
LOCATION:Sportplatz Fvgg Neudorf
END:VEVENT
END:VCALENDAR