BEGIN:VCALENDAR
VERSION:2.0
PRODID:-//Neudorfer Kulturausschuss e.V. - ECPv6.0.11//NONSGML v1.0//EN
CALSCALE:GREGORIAN
METHOD:PUBLISH
X-WR-CALNAME:Neudorfer Kulturausschuss e.V.
X-ORIGINAL-URL:https://nkaonline.de
X-WR-CALDESC:Veranstaltungen für Neudorfer Kulturausschuss e.V.
REFRESH-INTERVAL;VALUE=DURATION:PT1H
X-Robots-Tag:noindex
X-PUBLISHED-TTL:PT1H
BEGIN:VTIMEZONE
TZID:Europe/Berlin
BEGIN:DAYLIGHT
TZOFFSETFROM:+0100
TZOFFSETTO:+0200
TZNAME:CEST
DTSTART:20240331T010000
END:DAYLIGHT
BEGIN:STANDARD
TZOFFSETFROM:+0200
TZOFFSETTO:+0100
TZNAME:CET
DTSTART:20241027T010000
END:STANDARD
END:VTIMEZONE
BEGIN:VEVENT
DTSTART;VALUE=DATE:20240416
DTEND;VALUE=DATE:20240417
DTSTAMP:20260419T161425
CREATED:20231121T081742Z
LAST-MODIFIED:20231121T081742Z
UID:3209-1713225600-1713311999@nkaonline.de
SUMMARY:Blutspendetermin 	DRK Graben-Neudorf	Pestalozzihalle	Mitte
DESCRIPTION:
URL:https://nkaonline.de/veranstaltung/blutspendetermin-drk-graben-neudorfpestalozzihallemitte/
LOCATION:Pestalozzi-Halle\, Pestalozzistraße 2\, 76676 Graben-Neudorf\, Deu
END:VEVENT
BEGIN:VEVENT
DTSTART;VALUE=DATE:20240419
DTEND;VALUE=DATE:20240420
DTSTAMP:20260419T161425
CREATED:20231121T080733Z
LAST-MODIFIED:20231121T080733Z
UID:3205-1713484800-1713571199@nkaonline.de
SUMMARY:Referat Thema : Wohnberatung	Sozialverband VdK OV Neudorf	Henhöferhaus
DESCRIPTION:
URL:https://nkaonline.de/veranstaltung/referat-thema-wohnberatungsozialverband-vdk-ov-neudorfhenhoeferhaus/
LOCATION:Henhöferhaus
END:VEVENT
BEGIN:VEVENT
DTSTART;VALUE=DATE:20240420
DTEND;VALUE=DATE:20240421
DTSTAMP:20260419T161425
CREATED:20231108T092529Z
LAST-MODIFIED:20231108T092529Z
UID:3146-1713571200-1713657599@nkaonline.de
SUMMARY:Altpapiersammlung OT Graben	TSV Graben-Neudorf	Melfortweg	GRA
DESCRIPTION:
URL:https://nkaonline.de/veranstaltung/altpapiersammlung-ot-grabentsv-graben-neudorfmelfortweggra-2/
LOCATION:OT Graben
END:VEVENT
BEGIN:VEVENT
DTSTART;VALUE=DATE:20240420
DTEND;VALUE=DATE:20240422
DTSTAMP:20260419T161425
CREATED:20230320T084052Z
LAST-MODIFIED:20230320T084052Z
UID:3041-1713571200-1713743999@nkaonline.de
SUMMARY:Konzert Harmonika-Freunde 1954 Neudorf e.V.
DESCRIPTION:
URL:https://nkaonline.de/veranstaltung/konzert-harmonika-freunde-1954-neudorf-e-v/
LOCATION:Petermann-Halle
END:VEVENT
BEGIN:VEVENT
DTSTART;VALUE=DATE:20240428
DTEND;VALUE=DATE:20240429
DTSTAMP:20260419T161425
CREATED:20240219T085326Z
LAST-MODIFIED:20240219T085326Z
UID:3253-1714262400-1714348799@nkaonline.de
SUMMARY:Blechkuchenfest 	MGV Liederkranz Neudorf	Haus des Liedes	NEU
DESCRIPTION:
URL:https://nkaonline.de/veranstaltung/blechkuchenfest-mgv-liederkranz-neudorfhaus-des-liedesneu/
LOCATION:Haus des Liedes Neudorf
END:VEVENT
BEGIN:VEVENT
DTSTART;VALUE=DATE:20240430
DTEND;VALUE=DATE:20240502
DTSTAMP:20260419T161425
CREATED:20231108T092706Z
LAST-MODIFIED:20231117T155842Z
UID:3148-1714435200-1714607999@nkaonline.de
SUMMARY:Maifest 	TSV Graben-Neudorf	TSV Platz / OT Neudorf	Neu
DESCRIPTION:
URL:https://nkaonline.de/veranstaltung/maifest-tsv-graben-neudorftsv-platz-ot-grabengra/
LOCATION:TSV Neudorf Sportgelände\, Jahnstraße 11\, 76676 Graben-Neudorf\,
END:VEVENT
END:VCALENDAR